Package: mirIntegrator Version: 1.32.0 Command: /home/biocbuild/R/R-4.3.1/bin/R CMD INSTALL mirIntegrator StartedAt: 2023-11-01 20:18:37 -0000 (Wed, 01 Nov 2023) EndedAt: 2023-11-01 20:18:59 -0000 (Wed, 01 Nov 2023) EllapsedTime: 22.1 seconds RetCode: 0 Status: OK