Package: mirIntegrator Version: 1.32.0 Command: /home/biocbuild/R/R-4.3.1/bin/R CMD build --keep-empty-dirs --no-resave-data mirIntegrator StartedAt: 2023-11-02 03:31:55 -0000 (Thu, 02 Nov 2023) EndedAt: 2023-11-02 03:33:16 -0000 (Thu, 02 Nov 2023) EllapsedTime: 81.1 seconds RetCode: 0 Status: OK PackageFile: mirIntegrator_1.32.0.tar.gz PackageFileSize: 1.798 MiB