Package: minfi Version: 1.48.0 Command: F:\biocbuild\bbs-3.18-bioc\R\bin\R.exe CMD INSTALL minfi StartedAt: 2024-04-15 16:38:30 -0400 (Mon, 15 Apr 2024) EndedAt: 2024-04-15 16:39:43 -0400 (Mon, 15 Apr 2024) EllapsedTime: 73.1 seconds RetCode: 0 Status: OK