Package: minfi Version: 1.48.0 Command: /Library/Frameworks/R.framework/Resources/bin/R CMD INSTALL minfi StartedAt: 2024-04-15 16:29:41 -0400 (Mon, 15 Apr 2024) EndedAt: 2024-04-15 16:31:31 -0400 (Mon, 15 Apr 2024) EllapsedTime: 110.0 seconds RetCode: 0 Status: OK