Package: minet Version: 3.60.0 Command: rm -rf minet.buildbin-libdir && mkdir minet.buildbin-libdir && /Users/biocbuild/BBS/utils/build-universal.sh minet_3.60.0.tar.gz /Library/Frameworks/R.framework/Resources/bin/R minet.buildbin-libdir StartedAt: 2024-04-16 12:12:54 -0400 (Tue, 16 Apr 2024) EndedAt: 2024-04-16 12:13:10 -0400 (Tue, 16 Apr 2024) EllapsedTime: 15.1 seconds RetCode: 0 Status: OK PackageFile: minet_3.60.0.tgz PackageFileSize: 93.43 KiB