Package: mina Version: 1.10.0 Command: F:\biocbuild\bbs-3.18-bioc\R\bin\R.exe CMD check --no-multiarch --install=check:mina.install-out.txt --library=F:\biocbuild\bbs-3.18-bioc\R\library --no-vignettes --timings mina_1.10.0.tar.gz StartedAt: 2024-04-16 02:40:02 -0400 (Tue, 16 Apr 2024) EndedAt: 2024-04-16 02:44:10 -0400 (Tue, 16 Apr 2024) EllapsedTime: 247.4 seconds RetCode: 0 Status: WARNINGS CheckDir: mina.Rcheck Warnings: 1