Package: mina Version: 1.10.0 Command: chmod a+r mina -R && F:\biocbuild\bbs-3.18-bioc\R\bin\R.exe CMD build --keep-empty-dirs --no-resave-data mina StartedAt: 2024-04-15 19:33:02 -0400 (Mon, 15 Apr 2024) EndedAt: 2024-04-15 19:35:35 -0400 (Mon, 15 Apr 2024) EllapsedTime: 153.7 seconds RetCode: 0 Status: OK PackageFile: mina_1.10.0.tar.gz PackageFileSize: 4.018 MiB