Package: mimager Version: 1.26.0 Command: F:\biocbuild\bbs-3.18-bioc\R\bin\R.exe CMD INSTALL mimager StartedAt: 2024-04-15 15:53:52 -0400 (Mon, 15 Apr 2024) EndedAt: 2024-04-15 15:54:26 -0400 (Mon, 15 Apr 2024) EllapsedTime: 34.0 seconds RetCode: 0 Status: OK