Package: mimager Version: 1.26.0 Command: /Library/Frameworks/R.framework/Resources/bin/R CMD check --install=check:mimager.install-out.txt --library=/Library/Frameworks/R.framework/Resources/library --no-vignettes --timings mimager_1.26.0.tar.gz StartedAt: 2024-04-16 05:23:47 -0400 (Tue, 16 Apr 2024) EndedAt: 2024-04-16 05:31:22 -0400 (Tue, 16 Apr 2024) EllapsedTime: 454.6 seconds RetCode: 0 Status: OK CheckDir: mimager.Rcheck Warnings: 0