Package: mimager Version: 1.26.0 Command: /Library/Frameworks/R.framework/Resources/bin/R CMD check --install=check:mimager.install-out.txt --library=/Library/Frameworks/R.framework/Resources/library --no-vignettes --timings mimager_1.26.0.tar.gz StartedAt: 2024-03-03 21:48:28 -0500 (Sun, 03 Mar 2024) EndedAt: 2024-03-03 21:52:47 -0500 (Sun, 03 Mar 2024) EllapsedTime: 258.5 seconds RetCode: 0 Status: OK CheckDir: mimager.Rcheck Warnings: 0