Package: mimager Version: 1.26.0 Command: /Library/Frameworks/R.framework/Resources/bin/R CMD build --keep-empty-dirs --no-resave-data mimager StartedAt: 2024-03-03 17:22:51 -0500 (Sun, 03 Mar 2024) EndedAt: 2024-03-03 17:23:58 -0500 (Sun, 03 Mar 2024) EllapsedTime: 66.3 seconds RetCode: 0 Status: OK PackageFile: mimager_1.26.0.tar.gz PackageFileSize: 663.7 KiB