Package: mimager Version: 1.26.0 Command: rm -rf mimager.buildbin-libdir && mkdir mimager.buildbin-libdir && /Users/biocbuild/BBS/utils/build-universal.sh mimager_1.26.0.tar.gz /Library/Frameworks/R.framework/Resources/bin/R mimager.buildbin-libdir StartedAt: 2024-03-04 00:50:45 -0500 (Mon, 04 Mar 2024) EndedAt: 2024-03-04 00:51:25 -0500 (Mon, 04 Mar 2024) EllapsedTime: 39.7 seconds RetCode: 0 Status: OK PackageFile: mimager_1.26.0.tgz PackageFileSize: 713.1 KiB