Package: mimager Version: 1.26.0 Command: /home/biocbuild/R/R-4.3.1/bin/R CMD build --keep-empty-dirs --no-resave-data mimager StartedAt: 2023-11-02 03:29:35 -0000 (Thu, 02 Nov 2023) EndedAt: 2023-11-02 03:30:50 -0000 (Thu, 02 Nov 2023) EllapsedTime: 75.1 seconds RetCode: 0 Status: OK PackageFile: mimager_1.26.0.tar.gz PackageFileSize: 676.8 KiB