Package: microbiomeExplorer Version: 1.12.0 Command: F:\biocbuild\bbs-3.18-bioc\R\bin\R.exe CMD INSTALL microbiomeExplorer StartedAt: 2024-04-15 16:34:03 -0400 (Mon, 15 Apr 2024) EndedAt: 2024-04-15 16:34:29 -0400 (Mon, 15 Apr 2024) EllapsedTime: 25.7 seconds RetCode: 0 Status: OK