Package: microbiomeExplorer Version: 1.12.0 Command: chmod a+r microbiomeExplorer -R && F:\biocbuild\bbs-3.18-bioc\R\bin\R.exe CMD build --keep-empty-dirs --no-resave-data microbiomeExplorer StartedAt: 2024-04-15 19:32:08 -0400 (Mon, 15 Apr 2024) EndedAt: 2024-04-15 19:33:00 -0400 (Mon, 15 Apr 2024) EllapsedTime: 52.4 seconds RetCode: 0 Status: OK PackageFile: microbiomeExplorer_1.12.0.tar.gz PackageFileSize: 2.976 MiB