Package: microbiomeExplorer Version: 1.12.0 Command: /Library/Frameworks/R.framework/Resources/bin/R CMD INSTALL microbiomeExplorer StartedAt: 2024-04-15 16:23:01 -0400 (Mon, 15 Apr 2024) EndedAt: 2024-04-15 16:23:29 -0400 (Mon, 15 Apr 2024) EllapsedTime: 28.2 seconds RetCode: 0 Status: OK