Package: microbiomeExplorer Version: 1.12.0 Command: /home/biocbuild/R/R-4.3.1/bin/R CMD INSTALL microbiomeExplorer StartedAt: 2023-11-01 20:53:16 -0000 (Wed, 01 Nov 2023) EndedAt: 2023-11-01 20:53:34 -0000 (Wed, 01 Nov 2023) EllapsedTime: 17.7 seconds RetCode: 0 Status: OK