Package: microbiomeDASim Version: 1.16.0 Command: /Library/Frameworks/R.framework/Resources/bin/R CMD INSTALL microbiomeDASim StartedAt: 2024-04-15 16:17:19 -0400 (Mon, 15 Apr 2024) EndedAt: 2024-04-15 16:18:06 -0400 (Mon, 15 Apr 2024) EllapsedTime: 46.9 seconds RetCode: 0 Status: OK