Package: microbiomeDASim Version: 1.16.0 Command: /Library/Frameworks/R.framework/Resources/bin/R CMD build --keep-empty-dirs --no-resave-data microbiomeDASim StartedAt: 2024-04-15 20:00:14 -0400 (Mon, 15 Apr 2024) EndedAt: 2024-04-15 20:01:45 -0400 (Mon, 15 Apr 2024) EllapsedTime: 91.3 seconds RetCode: 0 Status: OK PackageFile: microbiomeDASim_1.16.0.tar.gz PackageFileSize: 1.498 MiB