Package: microbiome Version: 1.24.0 Command: /home/biocbuild/R/R-4.3.1/bin/R CMD INSTALL microbiome StartedAt: 2023-11-01 20:49:44 -0000 (Wed, 01 Nov 2023) EndedAt: 2023-11-01 20:50:14 -0000 (Wed, 01 Nov 2023) EllapsedTime: 30.3 seconds RetCode: 0 Status: OK