Package: microSTASIS Version: 1.2.0 Command: /home/biocbuild/bbs-3.18-bioc/R/bin/R CMD build --keep-empty-dirs --no-resave-data microSTASIS StartedAt: 2024-04-15 17:56:31 -0400 (Mon, 15 Apr 2024) EndedAt: 2024-04-15 17:57:42 -0400 (Mon, 15 Apr 2024) EllapsedTime: 70.7 seconds RetCode: 0 Status: OK PackageFile: microSTASIS_1.2.0.tar.gz PackageFileSize: 1.215 MiB