Package: microSTASIS Version: 1.2.0 Command: /Library/Frameworks/R.framework/Resources/bin/R CMD build --keep-empty-dirs --no-resave-data microSTASIS StartedAt: 2024-03-03 17:22:23 -0500 (Sun, 03 Mar 2024) EndedAt: 2024-03-03 17:23:44 -0500 (Sun, 03 Mar 2024) EllapsedTime: 80.7 seconds RetCode: 0 Status: OK PackageFile: microSTASIS_1.2.0.tar.gz PackageFileSize: 1.242 MiB