Package: microRNA Version: 1.60.0 Command: F:\biocbuild\bbs-3.18-bioc\R\bin\R.exe CMD INSTALL microRNA StartedAt: 2024-04-15 15:45:01 -0400 (Mon, 15 Apr 2024) EndedAt: 2024-04-15 15:45:20 -0400 (Mon, 15 Apr 2024) EllapsedTime: 18.3 seconds RetCode: 0 Status: OK