Package: miaViz Version: 1.10.0 Command: chmod a+r miaViz -R && F:\biocbuild\bbs-3.18-bioc\R\bin\R.exe CMD build --keep-empty-dirs --no-resave-data miaViz StartedAt: 2024-04-15 19:31:47 -0400 (Mon, 15 Apr 2024) EndedAt: 2024-04-15 19:34:00 -0400 (Mon, 15 Apr 2024) EllapsedTime: 133.4 seconds RetCode: 0 Status: OK PackageFile: miaViz_1.10.0.tar.gz PackageFileSize: 1.954 MiB