Package: miaViz Version: 1.10.0 Command: /Library/Frameworks/R.framework/Resources/bin/R CMD build --keep-empty-dirs --no-resave-data miaViz StartedAt: 2024-04-15 19:59:59 -0400 (Mon, 15 Apr 2024) EndedAt: 2024-04-15 20:04:06 -0400 (Mon, 15 Apr 2024) EllapsedTime: 247.5 seconds RetCode: 0 Status: OK PackageFile: miaViz_1.10.0.tar.gz PackageFileSize: 2.611 MiB