Package: miaViz Version: 1.10.0 Command: rm -rf miaViz.buildbin-libdir && mkdir miaViz.buildbin-libdir && /Users/biocbuild/BBS/utils/build-universal.sh miaViz_1.10.0.tar.gz /Library/Frameworks/R.framework/Resources/bin/R miaViz.buildbin-libdir StartedAt: 2024-04-16 12:12:27 -0400 (Tue, 16 Apr 2024) EndedAt: 2024-04-16 12:13:55 -0400 (Tue, 16 Apr 2024) EllapsedTime: 88.4 seconds RetCode: 0 Status: OK PackageFile: miaViz_1.10.0.tgz PackageFileSize: 2.807 MiB