Package: miaSim Version: 1.8.0 Command: chmod a+r miaSim -R && F:\biocbuild\bbs-3.18-bioc\R\bin\R.exe CMD build --keep-empty-dirs --no-resave-data miaSim StartedAt: 2024-04-15 19:31:41 -0400 (Mon, 15 Apr 2024) EndedAt: 2024-04-15 19:32:49 -0400 (Mon, 15 Apr 2024) EllapsedTime: 67.3 seconds RetCode: 0 Status: OK PackageFile: miaSim_1.8.0.tar.gz PackageFileSize: 325.6 KiB