Package: miRmine Version: 1.24.0 Command: /Library/Frameworks/R.framework/Resources/bin/R CMD INSTALL miRmine StartedAt: 2024-04-15 15:18:55 -0400 (Mon, 15 Apr 2024) EndedAt: 2024-04-15 15:19:39 -0400 (Mon, 15 Apr 2024) EllapsedTime: 44.4 seconds RetCode: 0 Status: OK