Package: miRmine Version: 1.24.0 Command: /Library/Frameworks/R.framework/Resources/bin/R CMD INSTALL miRmine StartedAt: 2024-03-03 15:15:37 -0500 (Sun, 03 Mar 2024) EndedAt: 2024-03-03 15:16:08 -0500 (Sun, 03 Mar 2024) EllapsedTime: 30.8 seconds RetCode: 0 Status: OK