Package: miRmine Version: 1.24.0 Command: /Library/Frameworks/R.framework/Resources/bin/R CMD build --keep-empty-dirs --no-resave-data miRmine StartedAt: 2024-03-03 17:23:58 -0500 (Sun, 03 Mar 2024) EndedAt: 2024-03-03 17:24:40 -0500 (Sun, 03 Mar 2024) EllapsedTime: 42.8 seconds RetCode: 0 Status: OK PackageFile: miRmine_1.24.0.tar.gz PackageFileSize: 2.236 MiB