Package: miRcomp Version: 1.32.0 Command: chmod a+r miRcomp -R && F:\biocbuild\bbs-3.18-bioc\R\bin\R.exe CMD build --keep-empty-dirs --no-resave-data miRcomp StartedAt: 2024-04-15 19:34:34 -0400 (Mon, 15 Apr 2024) EndedAt: 2024-04-15 19:35:10 -0400 (Mon, 15 Apr 2024) EllapsedTime: 36.6 seconds RetCode: 0 Status: OK PackageFile: miRcomp_1.32.0.tar.gz PackageFileSize: 2.575 MiB