Package: miRcomp Version: 1.32.0 Command: /home/biocbuild/bbs-3.18-bioc/R/bin/R CMD check --install=check:miRcomp.install-out.txt --library=/home/biocbuild/bbs-3.18-bioc/R/site-library --timings miRcomp_1.32.0.tar.gz StartedAt: 2024-04-16 00:56:58 -0400 (Tue, 16 Apr 2024) EndedAt: 2024-04-16 00:58:06 -0400 (Tue, 16 Apr 2024) EllapsedTime: 68.0 seconds RetCode: 0 Status: WARNINGS CheckDir: miRcomp.Rcheck Warnings: 1