Package: miRcomp Version: 1.32.0 Command: /home/biocbuild/R/R-4.3.1/bin/R CMD check --install=check:miRcomp.install-out.txt --library=/home/biocbuild/R/R-4.3.1/site-library --no-vignettes --timings miRcomp_1.32.0.tar.gz StartedAt: 2023-11-02 12:12:29 -0000 (Thu, 02 Nov 2023) EndedAt: 2023-11-02 12:13:10 -0000 (Thu, 02 Nov 2023) EllapsedTime: 41.1 seconds RetCode: 0 Status: WARNINGS CheckDir: miRcomp.Rcheck Warnings: 1