Package: miRcomp Version: 1.32.0 Command: /home/biocbuild/R/R-4.3.1/bin/R CMD build --keep-empty-dirs --no-resave-data miRcomp StartedAt: 2023-11-02 03:31:37 -0000 (Thu, 02 Nov 2023) EndedAt: 2023-11-02 03:32:22 -0000 (Thu, 02 Nov 2023) EllapsedTime: 45.1 seconds RetCode: 0 Status: OK PackageFile: miRcomp_1.32.0.tar.gz PackageFileSize: 3.303 MiB