Package: miRNApath Version: 1.62.0 Command: chmod a+r miRNApath -R && F:\biocbuild\bbs-3.18-bioc\R\bin\R.exe CMD build --keep-empty-dirs --no-resave-data miRNApath StartedAt: 2024-04-15 19:35:21 -0400 (Mon, 15 Apr 2024) EndedAt: 2024-04-15 19:35:48 -0400 (Mon, 15 Apr 2024) EllapsedTime: 26.0 seconds RetCode: 0 Status: OK PackageFile: miRNApath_1.62.0.tar.gz PackageFileSize: 548.8 KiB