Package: miRNApath Version: 1.62.0 Command: /home/biocbuild/bbs-3.18-bioc/R/bin/R CMD build --keep-empty-dirs --no-resave-data miRNApath StartedAt: 2024-04-15 17:58:40 -0400 (Mon, 15 Apr 2024) EndedAt: 2024-04-15 17:58:54 -0400 (Mon, 15 Apr 2024) EllapsedTime: 14.2 seconds RetCode: 0 Status: OK PackageFile: miRNApath_1.62.0.tar.gz PackageFileSize: 546.7 KiB