Package: miRNAmeConverter Version: 1.30.0 Command: /home/biocbuild/bbs-3.18-bioc/R/bin/R CMD INSTALL miRNAmeConverter StartedAt: 2024-04-15 15:18:28 -0400 (Mon, 15 Apr 2024) EndedAt: 2024-04-15 15:18:44 -0400 (Mon, 15 Apr 2024) EllapsedTime: 16.7 seconds RetCode: 0 Status: OK