Package: miRNAmeConverter Version: 1.30.0 Command: /Library/Frameworks/R.framework/Resources/bin/R CMD INSTALL miRNAmeConverter StartedAt: 2024-04-15 15:29:40 -0400 (Mon, 15 Apr 2024) EndedAt: 2024-04-15 15:30:13 -0400 (Mon, 15 Apr 2024) EllapsedTime: 33.5 seconds RetCode: 0 Status: OK