Package: miQC Version: 1.10.0 Command: /Library/Frameworks/R.framework/Resources/bin/R CMD INSTALL miQC StartedAt: 2024-04-15 15:19:34 -0400 (Mon, 15 Apr 2024) EndedAt: 2024-04-15 15:20:29 -0400 (Mon, 15 Apr 2024) EllapsedTime: 55.0 seconds RetCode: 0 Status: OK