Package: methylumi Version: 2.48.0 Command: rm -rf methylumi.buildbin-libdir && mkdir methylumi.buildbin-libdir && F:\biocbuild\bbs-3.18-bioc\R\bin\R.exe CMD INSTALL --build --library=methylumi.buildbin-libdir methylumi_2.48.0.tar.gz StartedAt: 2024-04-16 07:16:15 -0400 (Tue, 16 Apr 2024) EndedAt: 2024-04-16 07:17:46 -0400 (Tue, 16 Apr 2024) EllapsedTime: 91.2 seconds RetCode: 0 Status: OK PackageFile: methylumi_2.48.0.zip PackageFileSize: 8.408 MiB