Package: methylumi Version: 2.48.0 Command: rm -rf methylumi.buildbin-libdir && mkdir methylumi.buildbin-libdir && /Users/biocbuild/BBS/utils/build-universal.sh methylumi_2.48.0.tar.gz /Library/Frameworks/R.framework/Resources/bin/R methylumi.buildbin-libdir StartedAt: 2024-03-04 00:50:10 -0500 (Mon, 04 Mar 2024) EndedAt: 2024-03-04 00:51:37 -0500 (Mon, 04 Mar 2024) EllapsedTime: 86.9 seconds RetCode: 0 Status: OK PackageFile: methylumi_2.48.0.tgz PackageFileSize: 8.418 MiB