Package: methylclock Version: 1.8.0 Command: chmod a+r methylclock -R && F:\biocbuild\bbs-3.18-bioc\R\bin\R.exe CMD build --keep-empty-dirs --no-resave-data methylclock StartedAt: 2024-04-15 19:28:22 -0400 (Mon, 15 Apr 2024) EndedAt: 2024-04-15 19:39:58 -0400 (Mon, 15 Apr 2024) EllapsedTime: 695.8 seconds RetCode: 0 Status: OK PackageFile: methylclock_1.8.0.tar.gz PackageFileSize: 628.1 KiB