Package: methylclock Version: 1.8.0 Command: /Library/Frameworks/R.framework/Resources/bin/R CMD INSTALL methylclock StartedAt: 2024-04-15 16:45:42 -0400 (Mon, 15 Apr 2024) EndedAt: 2024-04-15 16:47:37 -0400 (Mon, 15 Apr 2024) EllapsedTime: 114.5 seconds RetCode: 0 Status: OK