Package: methylclock Version: 1.8.0 Command: /Library/Frameworks/R.framework/Resources/bin/R CMD build --keep-empty-dirs --no-resave-data methylclock StartedAt: 2024-04-15 19:55:49 -0400 (Mon, 15 Apr 2024) EndedAt: 2024-04-15 20:12:40 -0400 (Mon, 15 Apr 2024) EllapsedTime: 1010.9 seconds RetCode: 0 Status: OK PackageFile: methylclock_1.8.0.tar.gz PackageFileSize: 960.1 KiB