Package: methylclock Version: 1.8.0 Command: rm -rf methylclock.buildbin-libdir && mkdir methylclock.buildbin-libdir && /Users/biocbuild/BBS/utils/build-universal.sh methylclock_1.8.0.tar.gz /Library/Frameworks/R.framework/Resources/bin/R methylclock.buildbin-libdir StartedAt: 2024-04-16 12:10:54 -0400 (Tue, 16 Apr 2024) EndedAt: 2024-04-16 12:14:14 -0400 (Tue, 16 Apr 2024) EllapsedTime: 200.3 seconds RetCode: 0 Status: OK PackageFile: methylclock_1.8.0.tgz PackageFileSize: 1.022 MiB