Package: methylclock Version: 1.8.0 Command: /Library/Frameworks/R.framework/Resources/bin/R CMD build --keep-empty-dirs --no-resave-data methylclock StartedAt: 2024-03-03 17:19:57 -0500 (Sun, 03 Mar 2024) EndedAt: 2024-03-03 17:31:49 -0500 (Sun, 03 Mar 2024) EllapsedTime: 711.8 seconds RetCode: 0 Status: OK PackageFile: methylclock_1.8.0.tar.gz PackageFileSize: 934.3 KiB