Package: methylclock Version: 1.7.0 Command: /home/biocbuild/R/R-4.3.1/bin/R CMD check --install=check:methylclock.install-out.txt --library=/home/biocbuild/R/R-4.3.1/site-library --timings methylclock_1.7.0.tar.gz StartedAt: 2023-10-21 08:59:41 -0000 (Sat, 21 Oct 2023) EndedAt: 2023-10-21 09:24:25 -0000 (Sat, 21 Oct 2023) EllapsedTime: 1483.3 seconds RetCode: 1 Status: ERROR CheckDir: methylclock.Rcheck Warnings: NA