Package: methylSig Version: 1.14.0 Command: /home/biocbuild/R/R-4.3.1/bin/R CMD build --keep-empty-dirs --no-resave-data methylSig StartedAt: 2023-11-02 03:24:44 -0000 (Thu, 02 Nov 2023) EndedAt: 2023-11-02 03:26:29 -0000 (Thu, 02 Nov 2023) EllapsedTime: 104.1 seconds RetCode: 0 Status: OK PackageFile: methylSig_1.14.0.tar.gz PackageFileSize: 540.9 KiB