Package: methylPipe Version: 1.36.0 Command: /Library/Frameworks/R.framework/Resources/bin/R CMD build --keep-empty-dirs --no-resave-data methylPipe StartedAt: 2024-04-15 19:56:58 -0400 (Mon, 15 Apr 2024) EndedAt: 2024-04-15 20:02:03 -0400 (Mon, 15 Apr 2024) EllapsedTime: 305.3 seconds RetCode: 0 Status: OK PackageFile: methylPipe_1.36.0.tar.gz PackageFileSize: 587.5 KiB