Package: methylPipe Version: 1.36.0 Command: /Library/Frameworks/R.framework/Resources/bin/R CMD INSTALL methylPipe StartedAt: 2024-03-03 15:28:55 -0500 (Sun, 03 Mar 2024) EndedAt: 2024-03-03 15:30:10 -0500 (Sun, 03 Mar 2024) EllapsedTime: 75.1 seconds RetCode: 0 Status: OK